BEGIN:VCALENDAR
VERSION:2.0
PRODID:-//Schule im Wesertal - ECPv6.0.3.1//NONSGML v1.0//EN
CALSCALE:GREGORIAN
METHOD:PUBLISH
X-WR-CALNAME:Schule im Wesertal
X-ORIGINAL-URL:https://schule-im-wesertal.de
X-WR-CALDESC:Veranstaltungen für Schule im Wesertal
REFRESH-INTERVAL;VALUE=DURATION:PT1H
X-Robots-Tag:noindex
X-PUBLISHED-TTL:PT1H
BEGIN:VTIMEZONE
TZID:UTC
BEGIN:STANDARD
TZOFFSETFROM:+0000
TZOFFSETTO:+0000
TZNAME:UTC
DTSTART:20250101T000000
END:STANDARD
END:VTIMEZONE
BEGIN:VEVENT
DTSTART;TZID=UTC:20250220T190000
DTEND;TZID=UTC:20250220T210000
DTSTAMP:20260424T090036
CREATED:20250209T103017Z
LAST-MODIFIED:20250213T105258Z
UID:5267-1740078000-1740085200@schule-im-wesertal.de
SUMMARY:Elternabend Jahrgang 3
DESCRIPTION:
URL:https://schule-im-wesertal.de/event/elternabend-jhg-3/
END:VEVENT
END:VCALENDAR